BEGIN:VCALENDAR
VERSION:2.0
PRODID:-//Mes Équinoxes - ECPv6.15.20//NONSGML v1.0//EN
CALSCALE:GREGORIAN
METHOD:PUBLISH
X-WR-CALNAME:Mes Équinoxes
X-ORIGINAL-URL:https://mesequinoxes.fr
X-WR-CALDESC:Évènements pour Mes Équinoxes
REFRESH-INTERVAL;VALUE=DURATION:PT1H
X-Robots-Tag:noindex
X-PUBLISHED-TTL:PT1H
BEGIN:VTIMEZONE
TZID:Europe/Paris
BEGIN:DAYLIGHT
TZOFFSETFROM:+0100
TZOFFSETTO:+0200
TZNAME:CEST
DTSTART:20250330T010000
END:DAYLIGHT
BEGIN:STANDARD
TZOFFSETFROM:+0200
TZOFFSETTO:+0100
TZNAME:CET
DTSTART:20251026T010000
END:STANDARD
BEGIN:DAYLIGHT
TZOFFSETFROM:+0100
TZOFFSETTO:+0200
TZNAME:CEST
DTSTART:20260329T010000
END:DAYLIGHT
BEGIN:STANDARD
TZOFFSETFROM:+0200
TZOFFSETTO:+0100
TZNAME:CET
DTSTART:20261025T010000
END:STANDARD
BEGIN:DAYLIGHT
TZOFFSETFROM:+0100
TZOFFSETTO:+0200
TZNAME:CEST
DTSTART:20270328T010000
END:DAYLIGHT
BEGIN:STANDARD
TZOFFSETFROM:+0200
TZOFFSETTO:+0100
TZNAME:CET
DTSTART:20271031T010000
END:STANDARD
END:VTIMEZONE
BEGIN:VEVENT
DTSTART;TZID=Europe/Paris:20260426T090000
DTEND;TZID=Europe/Paris:20260426T170000
DTSTAMP:20260422T144549
CREATED:20260303T191206Z
LAST-MODIFIED:20260318T154356Z
UID:6063-1777194000-1777222800@mesequinoxes.fr
SUMMARY:Vide Dressing 100% Féminin - 2 ans d'EQUINOXES - 26 AVRIL 2026
DESCRIPTION:👗VIDE DRESSING 100% FÉMININ ! 🛍️\n\n\n\n Pour célébrer 🎂 les 2 ans d’EQUINOXES  \n\n\n\n\n\n\n\n\n\n\n\n\n\n\n\n\n\n\n\nAprès l’inauguration au Château de Bourassol et le succès du Festival Flower Power l’an dernier\, nous avons choisi d’organiser un vide-dressing exclusivement dédié aux articles féminins pour célébrer les 2 ans d’EQUINOXES. \n\n\n\nLe printemps est l’occasion idéale pour faire le tri\, y voir plus clair\, accompagner la renaissance de la nature… et offrir un grand bol d’air frais à nos maisons. \n\n\n\nEntrée libre pour les visiteurs Tout se passe en intérieur : stands\, musique\, food court avec boissons et crêpes .. et si la météo est avec nous\, nous pourrons profitez des extérieurs ! \n\n\n\n\n\n\n\net Surprise….\n\n\n\n\n\n \n\n\n\n \n\n\n\n\n\n\n\nMUSIQUE avec Carole Lavota\, et ses nombreux talents qui animera cette journée avec son groupe « GUEULE de LOUP » ! \n\n\n\n\n\n\n\n\n\n\n\n\n\n\n\net ce n’est pas tout….\n\n\n\nComment désemcombrer votre intérieur ? \n\n\n\n\n\n\n\n\n\n\n\n \n\n\n\n \n\n\n\n\n\n\n\nATELIER offert par SP DÉCO avec Stéphanie\, révélatrice d’intérieur(s)\, designer d’espace et décoratrice. \n\n\n\n\n\n\n\n\n\n\n\n\n\n\n\nVous souhaitez participer ? \n\n\n\nRéservez dès maintenant un ou plusieurs stands de 12m2 Vous gérez votre stand en toute autonomie : installation\, affichage des prix\, encaissement et présence sur place. \n\n\n\n\n\n\n\nARTICLES ACCEPTÉS 100% FÉMININS \n\n\n\n\n\n\n\n\n\n\n\n\n\n\nVêtements femme uniquement\, en très bon état \n\n\n\n\n\n\n\nAccessoires : foulards\, ceintures\, chaussures\, sacs à main\, bijoux fantaisie\, lunettes de soleil\, chapeaux \n\n\n\n\n\n\n\n\n🚫 ARTICLES NON ACCEPTÉS : bibelots\, parfums\, produits de maquillage ou d’hygiène. \n\n\n\n\n\n\n\nPOUR ORGANISER MON STAND \n\n\n\n\n\nMIS À DISPOSITION \n\n\n\n2 tables \n\n\n\n2 chaises \n\n\n\n1 grille d’exposition (1 m de large) \n\n\n\n\n\nJ’organise mon stand comme je veux !\n\n\n\n\n\nJE PEUX COMPLÉTER AVEC \n\n\n\nPortants \n\n\n\nD’autres tables \n\n\n\nAutres supports de ton choix \n\n\n\nMiroir \n\n\n\n\n\n\n\n\n\nDATE D’INSTALLATION \n\n\n\n\n\n\n\nInstallation uniquement la veille Samedi 25 avril 2026\, de 15h à 19h \n\n\n\n\n\n\n\n⚠️ En cas d’annulation\, les frais d’inscription ne sont pas remboursables. \n\n\n\n\n\n\n\nSUR PLACE \n\n\n\n\n\n\n\n🥤 Food Court Crêpes et Boissons \n\n\n\n🌟 Stand EQUINOXES \n\n\n\n\n\n\n\nOYEZ \, OYEZ… VIDE DRESSING À AUBIÈRE 💯 FÉMININ !                                         NE MANQUEZ PAS L’ÉVÈNEMENT ! \n\n\n\n\n\n\n\nUne partie de l’équipe EQUINOXES sera également présente sur le marché d’Aubière le dimanche matin\, en parallèle du vide-dressing.  \n\n\n\nInscrivez-vous vite et laissez-vous porter par cette belle aventure ! \n\n\n\n\n\n\n\n\n\n\n \n\n\n\n\n\nJE RÉSERVE 1 ou plusieurs places\n\n\n\n\nSi le nombre minimum d’inscriptions n’est pas atteint 48 h avant le jour J\, cet évènement ne sera pas maintenu… \n\n\n\n\n\n\n\nJe rejoins Equinoxes (Facultatif pour cet évènement) \n\n\n\n\nJ’ADHERE\n\n\n\n\n\n\n\n\nSuivre l’actualité d’Equinoxes \n\n\n\n\nINSTAGRAM
URL:https://mesequinoxes.fr/nos-ateliers/vide-dressing-100-feminin-2-ans-dequinoxes-26-avril-2026/
LOCATION:Complexe Sportif – Salle Marc Boursac\, avenue Jean Moulin 63170\, Aubière\, 63170
CATEGORIES:Blossom Party,Evènement Equinoxes
ATTACH;FMTTYPE=image/jpeg:https://mesequinoxes.fr/wp-content/uploads/2026/03/Template-Vide-Dressing.jpg
END:VEVENT
BEGIN:VEVENT
DTSTART;TZID=Europe/Paris:20260530T100000
DTEND;TZID=Europe/Paris:20260530T170000
DTSTAMP:20260422T144549
CREATED:20260303T141444Z
LAST-MODIFIED:20260303T141445Z
UID:6068-1780135200-1780160400@mesequinoxes.fr
SUMMARY:Blossom Party " Beauté et Bien-Etre à travers le Monde " - Saison 2 - 30 MAI 2026
DESCRIPTION:Organisé par Céline\, Esthéticienne et Conseillère Bien-Être et Carla Sommelière du Thé. \n\n\n\nUn voyage sensoriel à travers le monde\, à la découverte de rituels de beauté et de bien-être inspirés des cultures les plus raffinées ! \n\n\n\nUne expérience exclusive ! \n\n\n\n\n\nCéline\n\n\n\n\n\nCarla\n\n\n\n\n\n\n\n\n\n\nPour cette seconde édition\, nous vous invitons à une immersion délicate et inspirante au cœur de la culture du 𝕁𝕒𝕡𝕠𝕟\, terre d’élégance\, de tradition et d’harmonie. \n\n\n\nAu centre de cette parenthèse d’exception\, Céline\, esthéticienne et praticienne bien-être\, vous dévoilera l’art du layering\, véritable philosophie du soin venue du Japon. À travers un rituel du visage réalisé en plusieurs étapes\, vous apprendrez des gestes précis et essentiels\, pensés pour révéler l’éclat naturel de votre peau et sublimer votre beauté\, en conscience\, matin et soir. \n\n\n\nVous serez également initiée aux subtilités du Kobido\, art ancestral japonais de massage du visage. Plus qu’une technique\, c’est une pratique holistique qui harmonise le corps et l’esprit tout en redessinant les traits et en illuminant le teint. \n\n\n\nPour prolonger cette expérience et inscrire le bien-être dans votre quotidien\, Carla\, sommelière de thé\, vous ouvrira les portes de l’univers précieux du thé vert japonais\, et plus particulièrement du matcha. Vous découvrirez l’art de sélectionner un thé d’exception\, d’en comprendre les vertus et d’en maîtriser la préparation selon les règles traditionnelles\, transformant chaque tasse en un rituel de présence et de sérénité. \n\n\n\n\n\n\n\nCette journée se déroulera dans un écrin intimiste propice au lâcher-prise : la Moon Yurt à Gannat\, yourte mongole authentique\, lieu empreint de douceur et d’énergie. \n\n\n\nCette Blossom est une invitation à suspendre le temps\, à vous recentrer et à honorer votre beauté intérieure comme extérieure.Une expérience confidentielle\, pensée pour celles qui souhaitent se reconnecter à l’essentiel et s’accorder un moment d’exception. \n\n\n\nNous avons hâte de partager ce voyage avec vous. \n\n\n\nC & C ✨ \n\n\n\n\n\n\n\n\n\n\n\n\nInclus\n\n\n\n\nL’animation des ateliers\n\n\n\nTout le matériel nécessaire\n\n\n\nUne collation l’après-midi\n\n\n\n\n\n\n\n\nEn option\n\n\n\n\nUn repas partagé le midi\, à organiser ensemble selon vos envies\n\n\n\n\n\n\n\n\n\n\n\n\n89 € TARIFS NON ADHERENTE \n\n\n\n\n\n\n\n🧡 JE PARTICIPE A LA BLOSSOM 🧡\n\n\n\n\n\n\n\n 💛 J’ADHÈRE À EQUINOXES 💛
URL:https://mesequinoxes.fr/nos-ateliers/blossom-party-beaute-et-bien-etre-a-travers-le-monde-saison-2-30-mai-2026/
LOCATION:MOON YURT à GANNAT (03)\, 47 Route de Saint-Priest\, 03800 GANNAT\, France
CATEGORIES:Blossom Party,Evènement Equinoxes
ATTACH;FMTTYPE=image/jpeg:https://mesequinoxes.fr/wp-content/uploads/2026/03/Template-Beaute-et-Bien-Etre-a-travers-le-Monde.jpg
END:VEVENT
BEGIN:VEVENT
DTSTART;TZID=Europe/Paris:20260620T093000
DTEND;TZID=Europe/Paris:20260620T170000
DTSTAMP:20260422T144549
CREATED:20260413T170402Z
LAST-MODIFIED:20260419T131953Z
UID:6158-1781947800-1781974800@mesequinoxes.fr
SUMMARY:Blossom Party "Célébration du Solstice d'été" - Réveil ton intuition   20 juin 2026
DESCRIPTION:Le samedi 20 juin\, à la Moon Yurt de Gannat\, EQUINOXES t’invite à une journée pour ralentir\, respirer… et te reconnecter à toi \n\n\n\n\n\n\n\nOrganisé par Anne\, spécialiste médiation et relaxation  \n\n\n\nVanessa et Christine accompagnatrices dans l’art thérapie. \n\n\n\n\n\n\n\n\n\n\nAnne\, Sophrothérapeute Spécialiste de la gestion du stress en entreprise – Cofondatrice d’Equinoxes \n\n\n\n\n\n\n\n\n\n\nDans un quotidien souvent chargé (trop d’informations\, fatigue mentale\, incertitude)\, il devient parfois difficile de savoir ce qui est juste pour soi.Nous réfléchissons beaucoup… mais nous nous écoutons peu. \n\n\n\n\n\n\n\nEt si tu retrouvais un repère intérieur fiable ? \n\n\n\n\n\n\n\n\n\n\n\n\n\n\n\n\n\n\n\n\nÀ l’occasion du solstice d’été — moment de lumière et d’expansion — nous te proposons une immersion douce et profonde au cœur de ton intuition. \n\n\n\n\n\n\n\nCette journée est une invitation à réveiller ton intuition : une intelligence naturelle\, ancrée dans le corps\, qui permet de décider avec plus de clarté et de fluidité.L’essence de cette journée : faire la lumière en toi. \n\n\n\n\n\n\n\nAu fil de la journée\, tu pourras déposer ce qui t’encombre\, apaiser ton mental\, clarifier tes pensées… et renouer avec cette petite voix intérieure qui sait déjà ce qui est juste pour toi. \n\n\n\n\n\n\n\n\n\n\n\nAu programme \n\n\n\nTu seras guidée à travers différentes expériences sensibles et créatives   \n\n\n\n\n\n\n\n💫 Méditation & breathworkApaiser le mental et revenir à soi \n\n\n\n\n\n\n\n🍃 Balade sensorielle (Shinrin Yoku)Se reconnecter à la nature et ouvrir son attention \n\n\n\n\n\n\n\n🎨 Aquarelle intuitiveLâcher le contrôle et laisser émerger ce qui est là \n\n\n\n\n\n\n\n💫 Outils concretsClarifier ses pensées et différencier intuition / mental / peur \n\n\n\n\n\n\n\nCe que tu vas trouver dans cette journée \n\n\n\n\n\n\n\n🔆 L’animation des ateliers\, \n\n\n\n🔆 Tout le matériel nécessaire\, \n\n\n\n 🔆 Une collation l’après-midi. \n\n\n\n\n\n\n\n\nLa Moon Yurt à Gannat\, yourte mongole authentique\, \n\n\n\nlieu empreint de douceur et d’énergie. \n\n\n\n\n\n\n\n\nNous avons hâte de partager ce voyage avec toi. \n\n\n\n\n\n\n\n\n\n\n\n\nEn option\n\n\n\n\nUn repas partagé le midi\, à organiser ensemble selon vos envies\n\n\n\n\n\n\n\n\n\n\n\n\n89 € TARIFS NON ADHERENTE \n\n\n\n\n\n\n\n🧡 PARTICIPE À LA BLOSSOM 🧡\n\n\n\n\n\n\n\n 💛 J’ADHÈRE À EQUINOXES 💛
URL:https://mesequinoxes.fr/nos-ateliers/blossom-party-celebration-du-solstice-dete-reveil-ton-intuition-20-06/
LOCATION:MOON YURT à GANNAT (03)\, 47 Route de Saint-Priest\, 03800 GANNAT\, France
CATEGORIES:Blossom Party,Evènement Equinoxes
ATTACH;FMTTYPE=image/png:https://mesequinoxes.fr/wp-content/uploads/2026/04/image-solstice-dete.png
END:VEVENT
END:VCALENDAR